BEGIN:VCALENDAR
VERSION:2.0
PRODID:-//Oest Skizentrum Sonnenbichl - ECPv6.15.20//NONSGML v1.0//EN
CALSCALE:GREGORIAN
METHOD:PUBLISH
X-ORIGINAL-URL:https://oest-skizentrum-sonnenbichl.de
X-WR-CALDESC:Veranstaltungen für Oest Skizentrum Sonnenbichl
REFRESH-INTERVAL;VALUE=DURATION:PT1H
X-Robots-Tag:noindex
X-PUBLISHED-TTL:PT1H
BEGIN:VTIMEZONE
TZID:Europe/Berlin
BEGIN:DAYLIGHT
TZOFFSETFROM:+0100
TZOFFSETTO:+0200
TZNAME:CEST
DTSTART:20250330T010000
END:DAYLIGHT
BEGIN:STANDARD
TZOFFSETFROM:+0200
TZOFFSETTO:+0100
TZNAME:CET
DTSTART:20251026T010000
END:STANDARD
BEGIN:DAYLIGHT
TZOFFSETFROM:+0100
TZOFFSETTO:+0200
TZNAME:CEST
DTSTART:20260329T010000
END:DAYLIGHT
BEGIN:STANDARD
TZOFFSETFROM:+0200
TZOFFSETTO:+0100
TZNAME:CET
DTSTART:20261025T010000
END:STANDARD
BEGIN:DAYLIGHT
TZOFFSETFROM:+0100
TZOFFSETTO:+0200
TZNAME:CEST
DTSTART:20270328T010000
END:DAYLIGHT
BEGIN:STANDARD
TZOFFSETFROM:+0200
TZOFFSETTO:+0100
TZNAME:CET
DTSTART:20271031T010000
END:STANDARD
END:VTIMEZONE
BEGIN:VEVENT
DTSTART;VALUE=DATE:20260201
DTEND;VALUE=DATE:20260202
DTSTAMP:20260424T140434
CREATED:20251119T191839Z
LAST-MODIFIED:20260122T131828Z
UID:1401-1769904000-1769990399@oest-skizentrum-sonnenbichl.de
SUMMARY:ABGESAGT!! Kids Race // Skisportlerei
DESCRIPTION:[vc_row][vc_column width=“1/2″]Ausschreibung[/vc_column][vc_column width=“1/2″]Flyer Kids Race[/vc_column][/vc_row][vc_row][vc_column][/vc_column][/vc_row]
URL:https://oest-skizentrum-sonnenbichl.de/veranstaltung/kids-race-skisportlerei/
END:VEVENT
BEGIN:VEVENT
DTSTART;VALUE=DATE:20260206
DTEND;VALUE=DATE:20260208
DTSTAMP:20260424T140434
CREATED:20251119T191916Z
LAST-MODIFIED:20251119T191916Z
UID:1403-1770336000-1770508799@oest-skizentrum-sonnenbichl.de
SUMMARY:Montgolfiade
DESCRIPTION:
URL:https://oest-skizentrum-sonnenbichl.de/veranstaltung/montgolfiade/
END:VEVENT
BEGIN:VEVENT
DTSTART;VALUE=DATE:20260207
DTEND;VALUE=DATE:20260209
DTSTAMP:20260424T140434
CREATED:20251119T192200Z
LAST-MODIFIED:20251119T192930Z
UID:1407-1770422400-1770595199@oest-skizentrum-sonnenbichl.de
SUMMARY:KidsCross U12 Reichersbeuern
DESCRIPTION:
URL:https://oest-skizentrum-sonnenbichl.de/veranstaltung/kidscross-u12-reichersbeuern/
END:VEVENT
BEGIN:VEVENT
DTSTART;VALUE=DATE:20260210
DTEND;VALUE=DATE:20260211
DTSTAMP:20260424T140434
CREATED:20251119T192226Z
LAST-MODIFIED:20260210T192933Z
UID:1409-1770681600-1770767999@oest-skizentrum-sonnenbichl.de
SUMMARY:Schulmeisterschaften Gymnasium Tegernsee
DESCRIPTION:[vc_row][vc_column]Ergebnisliste[/vc_column][/vc_row]
URL:https://oest-skizentrum-sonnenbichl.de/veranstaltung/schulmeisterschaften-gymnasium-tegernsee/
END:VEVENT
BEGIN:VEVENT
DTSTART;VALUE=DATE:20260214
DTEND;VALUE=DATE:20260216
DTSTAMP:20260424T140434
CREATED:20251119T192308Z
LAST-MODIFIED:20260116T114444Z
UID:1411-1771027200-1771199999@oest-skizentrum-sonnenbichl.de
SUMMARY:FIS Talvereine Teg.Tal
DESCRIPTION:[vc_row][vc_column]Ausschreibung FIS Talvereine Teg.Tal[/vc_column][/vc_row]
URL:https://oest-skizentrum-sonnenbichl.de/veranstaltung/fis-talvereine-teg-tal/
END:VEVENT
BEGIN:VEVENT
DTSTART;VALUE=DATE:20260220
DTEND;VALUE=DATE:20260222
DTSTAMP:20260424T140434
CREATED:20251119T192335Z
LAST-MODIFIED:20251119T192335Z
UID:1413-1771545600-1771718399@oest-skizentrum-sonnenbichl.de
SUMMARY:Training/Rennen TC Alpirsbach
DESCRIPTION:
URL:https://oest-skizentrum-sonnenbichl.de/veranstaltung/training-rennen-tc-alpirsbach/
END:VEVENT
BEGIN:VEVENT
DTSTART;VALUE=DATE:20260221
DTEND;VALUE=DATE:20260223
DTSTAMP:20260424T140434
CREATED:20251119T192403Z
LAST-MODIFIED:20251119T192403Z
UID:1415-1771632000-1771804799@oest-skizentrum-sonnenbichl.de
SUMMARY:FIS/Moguls Alps Tour Freestyler
DESCRIPTION:
URL:https://oest-skizentrum-sonnenbichl.de/veranstaltung/fis-moguls-alps-tour-freestyler/
END:VEVENT
BEGIN:VEVENT
DTSTART;VALUE=DATE:20260222
DTEND;VALUE=DATE:20260223
DTSTAMP:20260424T140434
CREATED:20251119T192424Z
LAST-MODIFIED:20251119T192424Z
UID:1417-1771718400-1771804799@oest-skizentrum-sonnenbichl.de
SUMMARY:Goldener Ski Dachau
DESCRIPTION:
URL:https://oest-skizentrum-sonnenbichl.de/veranstaltung/goldener-ski-dachau/
END:VEVENT
BEGIN:VEVENT
DTSTART;VALUE=DATE:20260225
DTEND;VALUE=DATE:20260226
DTSTAMP:20260424T140434
CREATED:20251119T192446Z
LAST-MODIFIED:20251119T192446Z
UID:1419-1771977600-1772063999@oest-skizentrum-sonnenbichl.de
SUMMARY:Nachtslalom SVM
DESCRIPTION:
URL:https://oest-skizentrum-sonnenbichl.de/veranstaltung/nachtslalom-svm/
END:VEVENT
BEGIN:VEVENT
DTSTART;TZID=Europe/Berlin:20260226T190000
DTEND;TZID=Europe/Berlin:20260226T200000
DTSTAMP:20260424T140434
CREATED:20260206T190834Z
LAST-MODIFIED:20260208T104523Z
UID:1513-1772132400-1772136000@oest-skizentrum-sonnenbichl.de
SUMMARY:Einladung Infoabend Jugendteam
DESCRIPTION:[vc_row][vc_column]Einladung PDF[/vc_column][/vc_row]
URL:https://oest-skizentrum-sonnenbichl.de/veranstaltung/einladung-infoabend-jugendteam/
END:VEVENT
BEGIN:VEVENT
DTSTART;VALUE=DATE:20260227
DTEND;VALUE=DATE:20260228
DTSTAMP:20260424T140434
CREATED:20251119T192506Z
LAST-MODIFIED:20251119T192506Z
UID:1421-1772150400-1772236799@oest-skizentrum-sonnenbichl.de
SUMMARY:Goldener Ski Otterfing
DESCRIPTION:
URL:https://oest-skizentrum-sonnenbichl.de/veranstaltung/goldener-ski-otterfing/
END:VEVENT
BEGIN:VEVENT
DTSTART;VALUE=DATE:20260228
DTEND;VALUE=DATE:20260302
DTSTAMP:20260424T140434
CREATED:20251119T192532Z
LAST-MODIFIED:20251119T192532Z
UID:1423-1772236800-1772409599@oest-skizentrum-sonnenbichl.de
SUMMARY:Schülercup Freestyler
DESCRIPTION:
URL:https://oest-skizentrum-sonnenbichl.de/veranstaltung/schuelercup-freestyler/
END:VEVENT
END:VCALENDAR