BEGIN:VCALENDAR
VERSION:2.0
PRODID:-//Oest Skizentrum Sonnenbichl - ECPv6.15.20//NONSGML v1.0//EN
CALSCALE:GREGORIAN
METHOD:PUBLISH
X-ORIGINAL-URL:https://oest-skizentrum-sonnenbichl.de
X-WR-CALDESC:Veranstaltungen für Oest Skizentrum Sonnenbichl
REFRESH-INTERVAL;VALUE=DURATION:PT1H
X-Robots-Tag:noindex
X-PUBLISHED-TTL:PT1H
BEGIN:VTIMEZONE
TZID:Europe/Berlin
BEGIN:DAYLIGHT
TZOFFSETFROM:+0100
TZOFFSETTO:+0200
TZNAME:CEST
DTSTART:20250330T010000
END:DAYLIGHT
BEGIN:STANDARD
TZOFFSETFROM:+0200
TZOFFSETTO:+0100
TZNAME:CET
DTSTART:20251026T010000
END:STANDARD
BEGIN:DAYLIGHT
TZOFFSETFROM:+0100
TZOFFSETTO:+0200
TZNAME:CEST
DTSTART:20260329T010000
END:DAYLIGHT
BEGIN:STANDARD
TZOFFSETFROM:+0200
TZOFFSETTO:+0100
TZNAME:CET
DTSTART:20261025T010000
END:STANDARD
BEGIN:DAYLIGHT
TZOFFSETFROM:+0100
TZOFFSETTO:+0200
TZNAME:CEST
DTSTART:20270328T010000
END:DAYLIGHT
BEGIN:STANDARD
TZOFFSETFROM:+0200
TZOFFSETTO:+0100
TZNAME:CET
DTSTART:20271031T010000
END:STANDARD
END:VTIMEZONE
BEGIN:VEVENT
DTSTART;VALUE=DATE:20260114
DTEND;VALUE=DATE:20260115
DTSTAMP:20260424T163811
CREATED:20251119T191541Z
LAST-MODIFIED:20251119T193013Z
UID:1391-1768348800-1768435199@oest-skizentrum-sonnenbichl.de
SUMMARY:Bezirksmeisterschaft Münchner Schulen
DESCRIPTION:Verschiebetermin: 15.01.2026
URL:https://oest-skizentrum-sonnenbichl.de/veranstaltung/bezirksmeisterschaft-muenchner-schulen/
END:VEVENT
END:VCALENDAR